BEGIN:VCALENDAR
VERSION:2.0
PRODID:-//Tukios.com/
BEGIN:VEVENT
UID:a1af8d7c-8051-45cd-993d-33aec7b6b027@www.wgwmortuary.com
DTSTAMP:20260422T215805Z
DTSTART:20260429T170000Z
DTEND:20260429T180000Z
SUMMARY:Funeral Service
DESCRIPTION:
URL:https://www.wgwmortuary.com/obituaries/mrs-loretta-lane
LOCATION:Watkins, Garrett and Woods Mortuary 1011 Augusta Street  
	Greenville SC 29605
GEO:34.8335958;-82.4044681
END:VEVENT
END:VCALENDAR