BEGIN:VCALENDAR
VERSION:2.0
PRODID:-//Tukios.com/
BEGIN:VEVENT
UID:eaa515af-bb84-4ef7-83c3-722333886515@www.wgwmortuary.com
DTSTAMP:20260421T165233Z
DTSTART:20260427T180000Z
DTEND:20260427T190000Z
SUMMARY:Interment
DESCRIPTION:
URL:https://www.wgwmortuary.com/obituaries/mr-tony-rosemond
LOCATION:Resthaven Memorial Gardens 1655 Piedmont Highway  Piedmont SC 
	29673
GEO:34.7799249;-82.4296147
END:VEVENT
END:VCALENDAR