BEGIN:VCALENDAR
VERSION:2.0
PRODID:-//Tukios.com/
BEGIN:VEVENT
UID:ea2d8933-71c1-495a-8d73-bf1e32025a2d@www.wgwmortuary.com
DTSTAMP:20260421T165707Z
DTSTART:20260427T180000Z
DTEND:20260427T190000Z
SUMMARY:Funeral Service
DESCRIPTION:
URL:https://www.wgwmortuary.com/obituaries/mr-tony-rosemond
LOCATION:Watkins, Garrett and Woods Mortuary 1011 Augusta Street  
	Greenville SC 29605
GEO:34.8335958;-82.4044681
END:VEVENT
END:VCALENDAR